BEGIN:VCALENDAR
VERSION:2.0
PRODID:-//InvisionCommunity Events 4.7.23//EN
METHOD:PUBLISH
CALSCALE:GREGORIAN
REFRESH-INTERVAL:PT15M
X-PUBLISHED-TTL:PT15M
X-WR-CALNAME:Pogdesign
NAME:Pogdesign
BEGIN:VTIMEZONE
TZID:Europe/London
TZURL:http://tzurl.org/zoneinfo/Europe/London
X-LIC-LOCATION:Europe/London
BEGIN:DAYLIGHT
TZOFFSETFROM:+0000
TZOFFSETTO:+0100
TZNAME:BST
DTSTART:20180325T020000Z
RRULE:FREQ=YEARLY;BYMONTH=3;BYDAY=-1SU
END:DAYLIGHT
BEGIN:STANDARD
TZOFFSETFROM:+0100
TZOFFSETTO:+0000
TZNAME:GMT
DTSTART:20181028T020000Z
RRULE:FREQ=YEARLY;BYMONTH=10;BYDAY=-1SU
END:STANDARD
END:VTIMEZONE
BEGIN:VEVENT
SUMMARY:The Graham Norton Show 24x7 - Ian McKellen\, Carey Mulligan\
	,Taron Egerton\, Michael Bublé
DTSTAMP:20181026T090201Z
SEQUENCE:0
UID:94666-3-841ebed20eb198c4569419e99b7bf40a@themidnightzone.com
ORGANIZER;CN="Midnight":midnight@themidnightzone.com
DESCRIPTION:Together on Graham's sofa tonight: star of stage and screen 
	SirIan McKellen\, talking about his one-man stage show\;Oscar-nominated Br
	it Carey Mulligan\, in new US dramaWildlife\; Kingsman star Taron Egerton\
	, playing Robin ofLoxley in the new Robin Hood\; and singing star MichaelB
	ublé\, who chats and performs I Only Have Eyes For You fromhis new album.
DTSTART:20181109T173500Z
DTEND:20181109T183500Z
END:VEVENT
END:VCALENDAR
