BEGIN:VCALENDAR
VERSION:2.0
PRODID:-//InvisionCommunity Events 4.7.23//EN
METHOD:PUBLISH
CALSCALE:GREGORIAN
REFRESH-INTERVAL:PT15M
X-PUBLISHED-TTL:PT15M
X-WR-CALNAME:Pogdesign
NAME:Pogdesign
BEGIN:VTIMEZONE
TZID:Europe/London
TZURL:http://tzurl.org/zoneinfo/Europe/London
X-LIC-LOCATION:Europe/London
BEGIN:DAYLIGHT
TZOFFSETFROM:+0000
TZOFFSETTO:+0100
TZNAME:BST
DTSTART:20180325T020000Z
RRULE:FREQ=YEARLY;BYMONTH=3;BYDAY=-1SU
END:DAYLIGHT
BEGIN:STANDARD
TZOFFSETFROM:+0100
TZOFFSETTO:+0000
TZNAME:GMT
DTSTART:20181028T020000Z
RRULE:FREQ=YEARLY;BYMONTH=10;BYDAY=-1SU
END:STANDARD
END:VTIMEZONE
BEGIN:VEVENT
SUMMARY:Fresh Off the Boat 5x5 - Mo' Chinese Mo' Problems
DTSTAMP:20181027T090201Z
SEQUENCE:0
UID:94751-3-841ebed20eb198c4569419e99b7bf40a@themidnightzone.com
ORGANIZER;CN="Midnight":midnight@themidnightzone.com
DESCRIPTION:Jessica and Lewis are thrilled beyond belief when they disco
	verthat a Chinese family - Elaine\, Julius and son\, Horace - havemoved in
	to the neighborhood. Jessica immediately bonds withElaine\, who helps her 
	solve an issue with the HOA\, and Louisdecides to introduce Julius to Marv
	in and hang out together.Meanwhile\, when Evan goes door-to-door collectin
	g informationfor the census bureau\, Eddie and Emery come up with a plan t
	oimpersonate being census takers in order to find out when theowners of a 
	pool are out of the house so they can sneak overand use it.
DTSTART:20181109T200000Z
DTEND:20181109T203000Z
END:VEVENT
END:VCALENDAR
