BEGIN:VCALENDAR
VERSION:2.0
PRODID:-//InvisionCommunity Events 4.7.23//EN
METHOD:PUBLISH
CALSCALE:GREGORIAN
REFRESH-INTERVAL:PT15M
X-PUBLISHED-TTL:PT15M
X-WR-CALNAME:Pogdesign
NAME:Pogdesign
BEGIN:VTIMEZONE
TZID:Europe/London
TZURL:http://tzurl.org/zoneinfo/Europe/London
X-LIC-LOCATION:Europe/London
BEGIN:DAYLIGHT
TZOFFSETFROM:+0000
TZOFFSETTO:+0100
TZNAME:BST
DTSTART:20180325T020000Z
RRULE:FREQ=YEARLY;BYMONTH=3;BYDAY=-1SU
END:DAYLIGHT
BEGIN:STANDARD
TZOFFSETFROM:+0100
TZOFFSETTO:+0000
TZNAME:GMT
DTSTART:20181028T020000Z
RRULE:FREQ=YEARLY;BYMONTH=10;BYDAY=-1SU
END:STANDARD
END:VTIMEZONE
BEGIN:VEVENT
SUMMARY:Mars 2x1 - We Are Not Alone
DTSTAMP:20181030T090202Z
SEQUENCE:0
UID:94888-3-841ebed20eb198c4569419e99b7bf40a@themidnightzone.com
ORGANIZER;CN="Midnight":midnight@themidnightzone.com
DESCRIPTION:After almost a decade alone on Mars\, scientists at theInter
	national Mars Science Foundation's (IMSF) fully developedOlympus Town sett
	lement prepare for the arrival of a group ofhighly skilled astronauts work
	ing for Lukrum Industries\, afor-profit corporation specializing in natura
	l resourceextraction. In present day on Earth aboard the world'snorthernmo
	st oil platform in the Arctic\, extreme conditionsmake for a Mars-like wor
	k environment.
DTSTART:20181112T210000Z
DTEND:20181112T220000Z
END:VEVENT
END:VCALENDAR
