BEGIN:VCALENDAR
VERSION:2.0
PRODID:-//InvisionCommunity Events 4.7.23//EN
METHOD:PUBLISH
CALSCALE:GREGORIAN
REFRESH-INTERVAL:PT15M
X-PUBLISHED-TTL:PT15M
X-WR-CALNAME:Pogdesign
NAME:Pogdesign
BEGIN:VTIMEZONE
TZID:Europe/London
TZURL:http://tzurl.org/zoneinfo/Europe/London
X-LIC-LOCATION:Europe/London
BEGIN:DAYLIGHT
TZOFFSETFROM:+0000
TZOFFSETTO:+0100
TZNAME:BST
DTSTART:20180325T020000Z
RRULE:FREQ=YEARLY;BYMONTH=3;BYDAY=-1SU
END:DAYLIGHT
BEGIN:STANDARD
TZOFFSETFROM:+0100
TZOFFSETTO:+0000
TZNAME:GMT
DTSTART:20181028T020000Z
RRULE:FREQ=YEARLY;BYMONTH=10;BYDAY=-1SU
END:STANDARD
END:VTIMEZONE
BEGIN:VEVENT
SUMMARY:Anthony Bourdain: Parts Unknown 12x7 - Lower East Side
DTSTAMP:20181030T170200Z
SEQUENCE:0
UID:94901-3-841ebed20eb198c4569419e99b7bf40a@themidnightzone.com
ORGANIZER;CN="Midnight":midnight@themidnightzone.com
DESCRIPTION:Bourdain takes a personal journey through this formerlybohem
	ian New York City neighborhood\, as he meets\, sharesmeals and reflects wi
	th music\, film and art trailblazersincluding Richard Hell\, Deborah Harry
	 and Chris Stein\, LydiaLunch\, Fab 5 Freddy\, Danny Fields\, Amos Poe\, J
	im Jarmusch\,Kembra Pfahler\, John Lurie\, Clayton Patterson and HarleyFla
	nagan\, whose collective cultural impact in the 1970's and'80's has sustai
	ned through the decades.
DTSTART:20181111T210000Z
DTEND:20181111T220000Z
END:VEVENT
END:VCALENDAR
