BEGIN:VCALENDAR
VERSION:2.0
PRODID:-//InvisionCommunity Events 4.7.23//EN
METHOD:PUBLISH
CALSCALE:GREGORIAN
REFRESH-INTERVAL:PT15M
X-PUBLISHED-TTL:PT15M
X-WR-CALNAME:At My TV
NAME:At My TV
BEGIN:VTIMEZONE
TZID:Europe/London
TZURL:http://tzurl.org/zoneinfo/Europe/London
X-LIC-LOCATION:Europe/London
BEGIN:DAYLIGHT
TZOFFSETFROM:+0000
TZOFFSETTO:+0100
TZNAME:BST
DTSTART:20180325T020000Z
RRULE:FREQ=YEARLY;BYMONTH=3;BYDAY=-1SU
END:DAYLIGHT
BEGIN:STANDARD
TZOFFSETFROM:+0100
TZOFFSETTO:+0000
TZNAME:GMT
DTSTART:20181028T020000Z
RRULE:FREQ=YEARLY;BYMONTH=10;BYDAY=-1SU
END:STANDARD
END:VTIMEZONE
BEGIN:VEVENT
SUMMARY:Strictly Come Dancing 16x15 - Week 8
DTSTAMP:20181031T050157Z
SEQUENCE:0
UID:94934-2-841ebed20eb198c4569419e99b7bf40a@themidnightzone.com
ORGANIZER;CN="Midnight":midnight@themidnightzone.com
DESCRIPTION:Tess Daly and Claudia Winkleman present Strictly Come Dancin
	gas the battle in the ballroom intensifies. The eight remainingcouples wil
	l take to the floor as they try once again toimpress the judges in the stu
	dio and the viewers at home.Thisweek the stakes are even higher\, as our c
	ouples are not onlydancing to stay in the competition but also for the cha
	nce todance on one of the world's most iconic dancefloors nextweekend\, wh
	en Strictly heads to Blackpool.
DTSTART:20181110T190000Z
DTEND:20181110T200000Z
END:VEVENT
END:VCALENDAR
