BEGIN:VCALENDAR
VERSION:2.0
PRODID:-//InvisionCommunity Events 4.7.23//EN
METHOD:PUBLISH
CALSCALE:GREGORIAN
REFRESH-INTERVAL:PT15M
X-PUBLISHED-TTL:PT15M
X-WR-CALNAME:Pogdesign
NAME:Pogdesign
BEGIN:VTIMEZONE
TZID:Europe/London
TZURL:http://tzurl.org/zoneinfo/Europe/London
X-LIC-LOCATION:Europe/London
BEGIN:DAYLIGHT
TZOFFSETFROM:+0000
TZOFFSETTO:+0100
TZNAME:BST
DTSTART:20180325T020000Z
RRULE:FREQ=YEARLY;BYMONTH=3;BYDAY=-1SU
END:DAYLIGHT
BEGIN:STANDARD
TZOFFSETFROM:+0100
TZOFFSETTO:+0000
TZNAME:GMT
DTSTART:20181028T020000Z
RRULE:FREQ=YEARLY;BYMONTH=10;BYDAY=-1SU
END:STANDARD
END:VTIMEZONE
BEGIN:VEVENT
SUMMARY:The Kids Are Alright 1x4 - Peggy's Day Out
DTSTAMP:20181031T090201Z
SEQUENCE:0
UID:94950-3-841ebed20eb198c4569419e99b7bf40a@themidnightzone.com
ORGANIZER;CN="Midnight":midnight@themidnightzone.com
DESCRIPTION:To hide a mess Eddie made\, his girlfriend\, Wendi\, tries t
	odistract Peggy by insisting she take a day off with a fun dayout while th
	ey take care of the housework. To everyone'ssurprise\, Peggy accepts the o
	ffer and requests Wendi tagalong\, with the ulterior motive of teaching he
	r a lesson.Meanwhile\, Eddie enlists the help of his brothers to clean upa
	nd keep Mike out of the house while Wendi and Peggy are out.Elsewhere\, Pa
	t introduces Timmy to his secret dog.
DTSTART:20181113T203000Z
DTEND:20181113T210000Z
END:VEVENT
END:VCALENDAR
