BEGIN:VCALENDAR
VERSION:2.0
PRODID:-//InvisionCommunity Events 4.7.23//EN
METHOD:PUBLISH
CALSCALE:GREGORIAN
REFRESH-INTERVAL:PT15M
X-PUBLISHED-TTL:PT15M
X-WR-CALNAME:At My TV
NAME:At My TV
BEGIN:VTIMEZONE
TZID:Europe/London
TZURL:http://tzurl.org/zoneinfo/Europe/London
X-LIC-LOCATION:Europe/London
BEGIN:DAYLIGHT
TZOFFSETFROM:+0000
TZOFFSETTO:+0100
TZNAME:BST
DTSTART:20180325T020000Z
RRULE:FREQ=YEARLY;BYMONTH=3;BYDAY=-1SU
END:DAYLIGHT
BEGIN:STANDARD
TZOFFSETFROM:+0100
TZOFFSETTO:+0000
TZNAME:GMT
DTSTART:20181028T020000Z
RRULE:FREQ=YEARLY;BYMONTH=10;BYDAY=-1SU
END:STANDARD
END:VTIMEZONE
BEGIN:VEVENT
SUMMARY:The Apprentice (UK) 14x7 - Urban Gardening
DTSTAMP:20181104T050157Z
SEQUENCE:0
UID:95148-2-841ebed20eb198c4569419e99b7bf40a@themidnightzone.com
ORGANIZER;CN="Midnight":midnight@themidnightzone.com
DESCRIPTION:Lord Sugar summons the candidates to Crossrail's leafy roofg
	arden\, nestled above the new Elizabeth Line station in CanaryWharf\, wher
	e he sets them a gardening task. The teams must setup their own urban gard
	ening business\, carrying out commercialand domestic jobs across London. O
	n day one\, both PM teamsvisit corporate clients to pitch a plan and secur
	e a price fora large rooftop renovation.
DTSTART:20181114T210000Z
DTEND:20181114T220000Z
END:VEVENT
END:VCALENDAR
