BEGIN:VCALENDAR
VERSION:2.0
PRODID:-//InvisionCommunity Events 4.7.23//EN
METHOD:PUBLISH
CALSCALE:GREGORIAN
REFRESH-INTERVAL:PT15M
X-PUBLISHED-TTL:PT15M
X-WR-CALNAME:Pogdesign
NAME:Pogdesign
BEGIN:VTIMEZONE
TZID:Europe/London
TZURL:http://tzurl.org/zoneinfo/Europe/London
X-LIC-LOCATION:Europe/London
BEGIN:DAYLIGHT
TZOFFSETFROM:+0000
TZOFFSETTO:+0100
TZNAME:BST
DTSTART:20180325T020000Z
RRULE:FREQ=YEARLY;BYMONTH=3;BYDAY=-1SU
END:DAYLIGHT
BEGIN:STANDARD
TZOFFSETFROM:+0100
TZOFFSETTO:+0000
TZNAME:GMT
DTSTART:20181028T020000Z
RRULE:FREQ=YEARLY;BYMONTH=10;BYDAY=-1SU
END:STANDARD
END:VTIMEZONE
BEGIN:VEVENT
SUMMARY:Strictly Come Dancing 16x15 - Week 8
DTSTAMP:20181104T090203Z
SEQUENCE:0
UID:95160-3-841ebed20eb198c4569419e99b7bf40a@themidnightzone.com
ORGANIZER;CN="Midnight":midnight@themidnightzone.com
DESCRIPTION:Tess Daly and Claudia Winkleman introduce the last round of 
	theshow before the contest takes up residence in Blackpool'sfamous ballroo
	m. Eight couples remain in the running\, and willneed to impress judges Sh
	irley Ballas\, Darcey Bussell\, BrunoTonioli and Craig Revel Horwood\, as 
	well as the viewers athome\, to avoid tomorrow night's dance off.
DTSTART:20181110T141500Z
DTEND:20181110T154500Z
END:VEVENT
END:VCALENDAR
