BEGIN:VCALENDAR
VERSION:2.0
PRODID:-//InvisionCommunity Events 4.7.23//EN
METHOD:PUBLISH
CALSCALE:GREGORIAN
REFRESH-INTERVAL:PT15M
X-PUBLISHED-TTL:PT15M
X-WR-CALNAME:Pogdesign
NAME:Pogdesign
BEGIN:VTIMEZONE
TZID:Europe/London
TZURL:http://tzurl.org/zoneinfo/Europe/London
X-LIC-LOCATION:Europe/London
BEGIN:DAYLIGHT
TZOFFSETFROM:+0000
TZOFFSETTO:+0100
TZNAME:BST
DTSTART:20180325T020000Z
RRULE:FREQ=YEARLY;BYMONTH=3;BYDAY=-1SU
END:DAYLIGHT
BEGIN:STANDARD
TZOFFSETFROM:+0100
TZOFFSETTO:+0000
TZNAME:GMT
DTSTART:20181028T020000Z
RRULE:FREQ=YEARLY;BYMONTH=10;BYDAY=-1SU
END:STANDARD
END:VTIMEZONE
BEGIN:VEVENT
SUMMARY:Shark Tank 10x5 - Season 10\, Episode 5
DTSTAMP:20181105T090202Z
SEQUENCE:0
UID:95214-3-841ebed20eb198c4569419e99b7bf40a@themidnightzone.com
ORGANIZER;CN="Midnight":midnight@themidnightzone.com
DESCRIPTION:Sisters from Englewood Cliffs\, New Jersey\, introduce a way
	 toprotect women's handbags with their waterproof cover design\;an entrepr
	eneur from Raleigh\, North Carolina\, presents hisautomated travel service
	 that will use your reward points tohelp you plan your next vacation at a 
	fraction of the cost\; anentrepreneur from San Marcos\, California\, pitch
	es hisone-handed pull broom and dustpan to help clean easily andeffortless
	ly\; an entrepreneur from Madison\, Wisconsin\, showsthe Sharks an afforda
	ble way to make a healthy beverage withher at-home kit.
DTSTART:20181118T210000Z
DTEND:20181118T220000Z
END:VEVENT
END:VCALENDAR
