BEGIN:VCALENDAR
VERSION:2.0
PRODID:-//InvisionCommunity Events 4.7.23//EN
METHOD:PUBLISH
CALSCALE:GREGORIAN
REFRESH-INTERVAL:PT15M
X-PUBLISHED-TTL:PT15M
X-WR-CALNAME:Pogdesign
NAME:Pogdesign
BEGIN:VTIMEZONE
TZID:Europe/London
TZURL:http://tzurl.org/zoneinfo/Europe/London
X-LIC-LOCATION:Europe/London
BEGIN:DAYLIGHT
TZOFFSETFROM:+0000
TZOFFSETTO:+0100
TZNAME:BST
DTSTART:20180325T020000Z
RRULE:FREQ=YEARLY;BYMONTH=3;BYDAY=-1SU
END:DAYLIGHT
BEGIN:STANDARD
TZOFFSETFROM:+0100
TZOFFSETTO:+0000
TZNAME:GMT
DTSTART:20181028T020000Z
RRULE:FREQ=YEARLY;BYMONTH=10;BYDAY=-1SU
END:STANDARD
END:VTIMEZONE
BEGIN:VEVENT
SUMMARY:The Resident 2x8 - Heart in a Box
DTSTAMP:20181106T090201Z
SEQUENCE:0
UID:95291-3-841ebed20eb198c4569419e99b7bf40a@themidnightzone.com
ORGANIZER;CN="Midnight":midnight@themidnightzone.com
DESCRIPTION:Conrad goes head-to-head with Bell after he recommends one o
	fJulian's risky medical devices to Zoey\, who's already lost oneson and is
	 back in the hospital with the other. Nic fears thatConrad may be getting 
	overly attached to his patient.Meanwhile\, Mina and Austin grow closer whi
	le working on adifficult heart transplant\, Devon embarks on a very diffic
	ultday and Dr. Lane Hunter returns.
DTSTART:20181119T200000Z
DTEND:20181119T210000Z
END:VEVENT
END:VCALENDAR
