BEGIN:VCALENDAR
VERSION:2.0
PRODID:-//InvisionCommunity Events 4.7.23//EN
METHOD:PUBLISH
CALSCALE:GREGORIAN
REFRESH-INTERVAL:PT15M
X-PUBLISHED-TTL:PT15M
X-WR-CALNAME:Pogdesign
NAME:Pogdesign
BEGIN:VTIMEZONE
TZID:Europe/London
TZURL:http://tzurl.org/zoneinfo/Europe/London
X-LIC-LOCATION:Europe/London
BEGIN:DAYLIGHT
TZOFFSETFROM:+0000
TZOFFSETTO:+0100
TZNAME:BST
DTSTART:20180325T020000Z
RRULE:FREQ=YEARLY;BYMONTH=3;BYDAY=-1SU
END:DAYLIGHT
BEGIN:STANDARD
TZOFFSETFROM:+0100
TZOFFSETTO:+0000
TZNAME:GMT
DTSTART:20181028T020000Z
RRULE:FREQ=YEARLY;BYMONTH=10;BYDAY=-1SU
END:STANDARD
END:VTIMEZONE
BEGIN:VEVENT
SUMMARY:Casualty 33x13 - Series 33\, Episode 13
DTSTAMP:20181110T170201Z
SEQUENCE:0
UID:95465-3-841ebed20eb198c4569419e99b7bf40a@themidnightzone.com
ORGANIZER;CN="Midnight":midnight@themidnightzone.com
DESCRIPTION:Dylan puts himself and Ciara in jeopardy when he takes a cha
	nceon love\, while student nurse Marty arrives at the ED on hisfirst day e
	ager to please. Louise witnesses an elderly manbeing robbed by a gang of y
	ouths on bicycles\, but soon learnsnot to judge a book by its cover. Elsew
	here\, Iain gets therunaround when asking for help\, and Duffy catches Cha
	rlieanswering her phone.
DTSTART:20181117T160000Z
DTEND:20181117T165000Z
END:VEVENT
END:VCALENDAR
