BEGIN:VCALENDAR
VERSION:2.0
PRODID:-//InvisionCommunity Events 4.7.23//EN
METHOD:PUBLISH
CALSCALE:GREGORIAN
REFRESH-INTERVAL:PT15M
X-PUBLISHED-TTL:PT15M
X-WR-CALNAME:Pogdesign
NAME:Pogdesign
BEGIN:VTIMEZONE
TZID:Europe/London
TZURL:http://tzurl.org/zoneinfo/Europe/London
X-LIC-LOCATION:Europe/London
BEGIN:DAYLIGHT
TZOFFSETFROM:+0000
TZOFFSETTO:+0100
TZNAME:BST
DTSTART:20180325T020000Z
RRULE:FREQ=YEARLY;BYMONTH=3;BYDAY=-1SU
END:DAYLIGHT
BEGIN:STANDARD
TZOFFSETFROM:+0100
TZOFFSETTO:+0000
TZNAME:GMT
DTSTART:20181028T020000Z
RRULE:FREQ=YEARLY;BYMONTH=10;BYDAY=-1SU
END:STANDARD
END:VTIMEZONE
BEGIN:VEVENT
SUMMARY:The Kids Are Alright 1x6 - Behind the Counter
DTSTAMP:20181114T090201Z
SEQUENCE:0
UID:95619-3-841ebed20eb198c4569419e99b7bf40a@themidnightzone.com
ORGANIZER;CN="Midnight":midnight@themidnightzone.com
DESCRIPTION:Mike comes to the conclusion that Eddie is being sexuallyact
	ive and takes it upon himself to give him enough advice towork things out.
	 Later\, Peggy disagrees with how Mike handledthe situation and they argue
	 over how much they shouldinterfere in their children's lives. Elsewhere\,
	 Joey and Timmyattempt to disrupt Frank's plan to do free yardwork so that
	they can go back to getting paid.
DTSTART:20181127T203000Z
DTEND:20181127T210000Z
END:VEVENT
END:VCALENDAR
