BEGIN:VCALENDAR
VERSION:2.0
PRODID:-//InvisionCommunity Events 4.7.23//EN
METHOD:PUBLISH
CALSCALE:GREGORIAN
REFRESH-INTERVAL:PT15M
X-PUBLISHED-TTL:PT15M
X-WR-CALNAME:Pogdesign
NAME:Pogdesign
BEGIN:VTIMEZONE
TZID:Europe/London
TZURL:http://tzurl.org/zoneinfo/Europe/London
X-LIC-LOCATION:Europe/London
BEGIN:DAYLIGHT
TZOFFSETFROM:+0000
TZOFFSETTO:+0100
TZNAME:BST
DTSTART:20180325T020000Z
RRULE:FREQ=YEARLY;BYMONTH=3;BYDAY=-1SU
END:DAYLIGHT
BEGIN:STANDARD
TZOFFSETFROM:+0100
TZOFFSETTO:+0000
TZNAME:GMT
DTSTART:20181028T020000Z
RRULE:FREQ=YEARLY;BYMONTH=10;BYDAY=-1SU
END:STANDARD
END:VTIMEZONE
BEGIN:VEVENT
SUMMARY:Only Connect 14x5 - Birdwatchers v Dicers
DTSTAMP:20181118T090202Z
SEQUENCE:0
UID:95819-3-841ebed20eb198c4569419e99b7bf40a@themidnightzone.com
ORGANIZER;CN="Midnight":midnight@themidnightzone.com
DESCRIPTION:Victoria Coren Mitchell hosts the series where knowledge wil
	lonly take you so far. Patience and lateral thinking are alsovital. A trio
	 of birdwatchers take on a team of boardgamers intonight's opening heat. T
	hey compete to draw together theconnections between things which\, at firs
	t glance\, seemutterly random. So join Victoria Coren Mitchell if you want
	 toknow what connects Substitute\, Reticence\, Nature Area andSave somethi
	ng for someone.
DTSTART:20181119T153000Z
DTEND:20181119T160000Z
END:VEVENT
END:VCALENDAR
