BEGIN:VCALENDAR
VERSION:2.0
PRODID:-//InvisionCommunity Events 4.7.23//EN
METHOD:PUBLISH
CALSCALE:GREGORIAN
REFRESH-INTERVAL:PT15M
X-PUBLISHED-TTL:PT15M
X-WR-CALNAME:Pogdesign
NAME:Pogdesign
BEGIN:VTIMEZONE
TZID:Europe/London
TZURL:http://tzurl.org/zoneinfo/Europe/London
X-LIC-LOCATION:Europe/London
BEGIN:DAYLIGHT
TZOFFSETFROM:+0000
TZOFFSETTO:+0100
TZNAME:BST
DTSTART:20180325T020000Z
RRULE:FREQ=YEARLY;BYMONTH=3;BYDAY=-1SU
END:DAYLIGHT
BEGIN:STANDARD
TZOFFSETFROM:+0100
TZOFFSETTO:+0000
TZNAME:GMT
DTSTART:20181028T020000Z
RRULE:FREQ=YEARLY;BYMONTH=10;BYDAY=-1SU
END:STANDARD
END:VTIMEZONE
BEGIN:VEVENT
SUMMARY:The Kids Are Alright 1x7 - Little Cyst
DTSTAMP:20181121T170200Z
SEQUENCE:0
UID:95959-3-841ebed20eb198c4569419e99b7bf40a@themidnightzone.com
ORGANIZER;CN="Midnight":midnight@themidnightzone.com
DESCRIPTION:Mike and Peggy think they might be expecting again\, but lat
	erPeggy is diagnosed with having a cyst instead. The experiencelaunches th
	em into a debate about whether or not they shouldhave another child. Meanw
	hile\, the kids spy on Mike and Peggyto try to figure out what all their u
	nusual behavior is about.When Pat overhears that they are going to have a 
	littlesister\, the Cleary kids decide to dig deeper and continuetheir inve
	stigation\, which only leads them on a downwardspiral.
DTSTART:20181204T203000Z
DTEND:20181204T210000Z
END:VEVENT
END:VCALENDAR
