BEGIN:VCALENDAR
VERSION:2.0
PRODID:-//InvisionCommunity Events 4.7.23//EN
METHOD:PUBLISH
CALSCALE:GREGORIAN
REFRESH-INTERVAL:PT15M
X-PUBLISHED-TTL:PT15M
X-WR-CALNAME:Pogdesign
NAME:Pogdesign
BEGIN:VTIMEZONE
TZID:Europe/London
TZURL:http://tzurl.org/zoneinfo/Europe/London
X-LIC-LOCATION:Europe/London
BEGIN:DAYLIGHT
TZOFFSETFROM:+0000
TZOFFSETTO:+0100
TZNAME:BST
DTSTART:20180325T020000Z
RRULE:FREQ=YEARLY;BYMONTH=3;BYDAY=-1SU
END:DAYLIGHT
BEGIN:STANDARD
TZOFFSETFROM:+0100
TZOFFSETTO:+0000
TZNAME:GMT
DTSTART:20181028T020000Z
RRULE:FREQ=YEARLY;BYMONTH=10;BYDAY=-1SU
END:STANDARD
END:VTIMEZONE
BEGIN:VEVENT
SUMMARY:Riverdale 3x6 - Chapter Forty-One: Manhunter
DTSTAMP:20181122T170200Z
SEQUENCE:0
UID:96041-3-841ebed20eb198c4569419e99b7bf40a@themidnightzone.com
ORGANIZER;CN="Midnight":midnight@themidnightzone.com
DESCRIPTION:After confronting the parents\, who were part of &amp\;quot:
	TheMidnight Club\" twenty-five years ago\, Betty follows somestrong leads 
	in hopes of finding out who the true Gargoyle Kingis. Meanwhile\, Veronica
	's attempt to prove Archie's innocencelands her in hot water. Finally\, Ar
	chie turns to Kevin forhelp making things right.
DTSTART:20181128T200000Z
DTEND:20181128T210000Z
END:VEVENT
END:VCALENDAR
