BEGIN:VCALENDAR
VERSION:2.0
PRODID:-//InvisionCommunity Events 4.7.23//EN
METHOD:PUBLISH
CALSCALE:GREGORIAN
REFRESH-INTERVAL:PT15M
X-PUBLISHED-TTL:PT15M
X-WR-CALNAME:At My TV
NAME:At My TV
BEGIN:VTIMEZONE
TZID:Europe/London
TZURL:http://tzurl.org/zoneinfo/Europe/London
X-LIC-LOCATION:Europe/London
BEGIN:DAYLIGHT
TZOFFSETFROM:+0000
TZOFFSETTO:+0100
TZNAME:BST
DTSTART:20180325T020000Z
RRULE:FREQ=YEARLY;BYMONTH=3;BYDAY=-1SU
END:DAYLIGHT
BEGIN:STANDARD
TZOFFSETFROM:+0100
TZOFFSETTO:+0000
TZNAME:GMT
DTSTART:20181028T020000Z
RRULE:FREQ=YEARLY;BYMONTH=10;BYDAY=-1SU
END:STANDARD
END:VTIMEZONE
BEGIN:VEVENT
SUMMARY:Vice 6x29 - Doom Boom & Unfair
DTSTAMP:20181124T050155Z
SEQUENCE:0
UID:96121-2-841ebed20eb198c4569419e99b7bf40a@themidnightzone.com
ORGANIZER;CN="Midnight":midnight@themidnightzone.com
DESCRIPTION:Throughout human history\, doomsayers - people predicting th
	eend of the world - have lived largely on the fringes ofsociety. Today\, h
	owever\, the doomsday industry is thriving\,thanks to TV shows\, movies\, 
	hyperpartisan politics and thenews media. With the country's collective an
	xiety on the rise\,even the nation's wealthiest citizens are jumping on bo
	ard\,spending millions of dollars on survival readiness inpreparation for 
	unknown calamities. Thomas Morton sets out tosee how people across the cou
	ntry are planning to weather thecoming storm.
DTSTART:20181208T003000Z
DTEND:20181208T010000Z
END:VEVENT
END:VCALENDAR
