BEGIN:VCALENDAR
VERSION:2.0
PRODID:-//InvisionCommunity Events 4.7.23//EN
METHOD:PUBLISH
CALSCALE:GREGORIAN
REFRESH-INTERVAL:PT15M
X-PUBLISHED-TTL:PT15M
X-WR-CALNAME:Pogdesign
NAME:Pogdesign
BEGIN:VTIMEZONE
TZID:Europe/London
TZURL:http://tzurl.org/zoneinfo/Europe/London
X-LIC-LOCATION:Europe/London
BEGIN:DAYLIGHT
TZOFFSETFROM:+0000
TZOFFSETTO:+0100
TZNAME:BST
DTSTART:20180325T020000Z
RRULE:FREQ=YEARLY;BYMONTH=3;BYDAY=-1SU
END:DAYLIGHT
BEGIN:STANDARD
TZOFFSETFROM:+0100
TZOFFSETTO:+0000
TZNAME:GMT
DTSTART:20181028T020000Z
RRULE:FREQ=YEARLY;BYMONTH=10;BYDAY=-1SU
END:STANDARD
END:VTIMEZONE
BEGIN:VEVENT
SUMMARY:The X Factor (UK) 15x26 - Live Semi-Finals Results
DTSTAMP:20181124T090201Z
SEQUENCE:0
UID:96164-3-841ebed20eb198c4569419e99b7bf40a@themidnightzone.com
ORGANIZER;CN="Midnight":midnight@themidnightzone.com
DESCRIPTION:Dermot O'Leary introduces the results from yesterday'ssemi-f
	inals\, and reveals which acts have been chosen to gothrough to the final 
	by the viewing public and judges SimonCowell\, Louis Tomlinson\, Ayda Will
	iams and Robbie Williams\,returning to the show after a three-week break. 
	Plus\, amusical performance from a special guest star.
DTSTART:20181125T150000Z
DTEND:20181125T160000Z
END:VEVENT
END:VCALENDAR
