BEGIN:VCALENDAR
VERSION:2.0
PRODID:-//InvisionCommunity Events 4.7.23//EN
METHOD:PUBLISH
CALSCALE:GREGORIAN
REFRESH-INTERVAL:PT15M
X-PUBLISHED-TTL:PT15M
X-WR-CALNAME:Pogdesign
NAME:Pogdesign
BEGIN:VTIMEZONE
TZID:Europe/London
TZURL:http://tzurl.org/zoneinfo/Europe/London
X-LIC-LOCATION:Europe/London
BEGIN:DAYLIGHT
TZOFFSETFROM:+0000
TZOFFSETTO:+0100
TZNAME:BST
DTSTART:20180325T020000Z
RRULE:FREQ=YEARLY;BYMONTH=3;BYDAY=-1SU
END:DAYLIGHT
BEGIN:STANDARD
TZOFFSETFROM:+0100
TZOFFSETTO:+0000
TZNAME:GMT
DTSTART:20181028T020000Z
RRULE:FREQ=YEARLY;BYMONTH=10;BYDAY=-1SU
END:STANDARD
END:VTIMEZONE
BEGIN:VEVENT
SUMMARY:Escape at Dannemora 1x5 - Part 5
DTSTAMP:20181203T090201Z
SEQUENCE:0
UID:96557-3-841ebed20eb198c4569419e99b7bf40a@themidnightzone.com
ORGANIZER;CN="Midnight":midnight@themidnightzone.com
DESCRIPTION:On the day of the escape\, Matt and Sweat know the smallestm
	istake can derail their whole plan\, but when a sterncorrections officer t
	akes over the post in the tailor shop andfellow inmate Murder gets out of 
	the Special Housing Unit\,Matt seems attracted to the danger. Tilly and Ly
	le have afateful dinner at an all-you-can-eat Chinese restaurant.
DTSTART:20181216T220000Z
DTEND:20181216T225000Z
END:VEVENT
END:VCALENDAR
