BEGIN:VCALENDAR
VERSION:2.0
PRODID:-//InvisionCommunity Events 4.7.23//EN
METHOD:PUBLISH
CALSCALE:GREGORIAN
REFRESH-INTERVAL:PT15M
X-PUBLISHED-TTL:PT15M
X-WR-CALNAME:Pogdesign
NAME:Pogdesign
BEGIN:VTIMEZONE
TZID:Europe/London
TZURL:http://tzurl.org/zoneinfo/Europe/London
X-LIC-LOCATION:Europe/London
BEGIN:DAYLIGHT
TZOFFSETFROM:+0000
TZOFFSETTO:+0100
TZNAME:BST
DTSTART:20190331T020000Z
RRULE:FREQ=YEARLY;BYMONTH=3;BYDAY=-1SU
END:DAYLIGHT
BEGIN:STANDARD
TZOFFSETFROM:+0100
TZOFFSETTO:+0000
TZNAME:GMT
DTSTART:20191027T020000Z
RRULE:FREQ=YEARLY;BYMONTH=10;BYDAY=-1SU
END:STANDARD
END:VTIMEZONE
BEGIN:VEVENT
SUMMARY:Hell's Kitchen (US) 18x10 - Poor Trev
DTSTAMP:20181222T090054Z
SEQUENCE:0
UID:97134-3-841ebed20eb198c4569419e99b7bf40a@themidnightzone.com
ORGANIZER;CN="Midnight":midnight@themidnightzone.com
DESCRIPTION:Both teams are down to four chefs each\, as the competitionc
	ontinues to heat up. The dining room gets an Italiantransformation for one
	 of the most anticipated challenges ofthe season - the blind taste test. H
	ell's Kitchen then closesits doors to the public for a special charity din
	ner service\,during which the two teams cook to honor supporters of St. Ju
	deChildren's Research Hospital and the Waterkeeper Alliance\,with a new fi
	ve-course Italian menu. The night turns disastrouswhen Chef Ramsay must st
	ep in and finish cooking for one teambefore a dramatic elimination. Tune i
	n to see one team begin toimplode.
DTSTART:20190104T210000Z
DTEND:20190104T220000Z
END:VEVENT
END:VCALENDAR
