BEGIN:VCALENDAR
VERSION:2.0
PRODID:-//InvisionCommunity Events 4.7.23//EN
METHOD:PUBLISH
CALSCALE:GREGORIAN
REFRESH-INTERVAL:PT15M
X-PUBLISHED-TTL:PT15M
X-WR-CALNAME:Pogdesign
NAME:Pogdesign
BEGIN:VTIMEZONE
TZID:Europe/London
TZURL:http://tzurl.org/zoneinfo/Europe/London
X-LIC-LOCATION:Europe/London
BEGIN:DAYLIGHT
TZOFFSETFROM:+0000
TZOFFSETTO:+0100
TZNAME:BST
DTSTART:20190331T020000Z
RRULE:FREQ=YEARLY;BYMONTH=3;BYDAY=-1SU
END:DAYLIGHT
BEGIN:STANDARD
TZOFFSETFROM:+0100
TZOFFSETTO:+0000
TZNAME:GMT
DTSTART:20191027T020000Z
RRULE:FREQ=YEARLY;BYMONTH=10;BYDAY=-1SU
END:STANDARD
END:VTIMEZONE
BEGIN:VEVENT
SUMMARY:The Rookie 1x10 - Flesh and Blood
DTSTAMP:20190102T090014Z
SEQUENCE:0
UID:97555-3-841ebed20eb198c4569419e99b7bf40a@themidnightzone.com
ORGANIZER;CN="Midnight":midnight@themidnightzone.com
DESCRIPTION:On Captain Andersen's orders\, Officer Nolan and Sergeant Gr
	eyare paired up for the day on patrol. Additionally\, Nolan's sonand Grey'
	s daughter visit their dads on the job and see them inaction. Meanwhile\, 
	Officer Chen is paired up with CaptainAndersen\, and Officer Bradford tell
	s Chen to protect her atall costs.
DTSTART:20190115T220000Z
DTEND:20190115T230000Z
END:VEVENT
END:VCALENDAR
