BEGIN:VCALENDAR
VERSION:2.0
PRODID:-//InvisionCommunity Events 4.7.23//EN
METHOD:PUBLISH
CALSCALE:GREGORIAN
REFRESH-INTERVAL:PT15M
X-PUBLISHED-TTL:PT15M
X-WR-CALNAME:Pogdesign
NAME:Pogdesign
BEGIN:VTIMEZONE
TZID:Europe/London
TZURL:http://tzurl.org/zoneinfo/Europe/London
X-LIC-LOCATION:Europe/London
BEGIN:DAYLIGHT
TZOFFSETFROM:+0000
TZOFFSETTO:+0100
TZNAME:BST
DTSTART:20190331T020000Z
RRULE:FREQ=YEARLY;BYMONTH=3;BYDAY=-1SU
END:DAYLIGHT
BEGIN:STANDARD
TZOFFSETFROM:+0100
TZOFFSETTO:+0000
TZNAME:GMT
DTSTART:20191027T020000Z
RRULE:FREQ=YEARLY;BYMONTH=10;BYDAY=-1SU
END:STANDARD
END:VTIMEZONE
BEGIN:VEVENT
SUMMARY:Splitting Up Together 2x10 - China-Curious
DTSTAMP:20190102T090014Z
SEQUENCE:0
UID:97560-3-841ebed20eb198c4569419e99b7bf40a@themidnightzone.com
ORGANIZER;CN="Midnight":midnight@themidnightzone.com
DESCRIPTION:A concerned Lena tries to figure out if Mae is romanticallyi
	nvolved with her new best friend\, China. To make mattersworse\, Mae asks 
	if China can sleep over\, which makes Lenauncomfortable and forces her to 
	confront her own issues withintimacy. Meanwhile\, Martin worries about Mas
	on's relationshipwith his new girlfriend\, Bronwyn\, and gives him advice 
	tohelp avoid another heartbreak.
DTSTART:20190115T213000Z
DTEND:20190115T220000Z
END:VEVENT
END:VCALENDAR
