BEGIN:VCALENDAR
VERSION:2.0
PRODID:-//InvisionCommunity Events 4.7.23//EN
METHOD:PUBLISH
CALSCALE:GREGORIAN
REFRESH-INTERVAL:PT15M
X-PUBLISHED-TTL:PT15M
X-WR-CALNAME:Pogdesign
NAME:Pogdesign
BEGIN:VTIMEZONE
TZID:Europe/London
TZURL:http://tzurl.org/zoneinfo/Europe/London
X-LIC-LOCATION:Europe/London
BEGIN:DAYLIGHT
TZOFFSETFROM:+0000
TZOFFSETTO:+0100
TZNAME:BST
DTSTART:20190331T020000Z
RRULE:FREQ=YEARLY;BYMONTH=3;BYDAY=-1SU
END:DAYLIGHT
BEGIN:STANDARD
TZOFFSETFROM:+0100
TZOFFSETTO:+0000
TZNAME:GMT
DTSTART:20191027T020000Z
RRULE:FREQ=YEARLY;BYMONTH=10;BYDAY=-1SU
END:STANDARD
END:VTIMEZONE
BEGIN:VEVENT
SUMMARY:Call The Midwife 8x1 - Series 8\, Episode 1
DTSTAMP:20190106T010003Z
SEQUENCE:0
UID:97724-3-841ebed20eb198c4569419e99b7bf40a@themidnightzone.com
ORGANIZER;CN="Midnight":midnight@themidnightzone.com
DESCRIPTION:As spring arrives\, Nonnatus House welcomes two new nuns\, t
	heexperienced Sister Hilda and newly qualified Sister Frances\,who must ac
	climatise to the changing East End. A complicatedmultiple birth tests the 
	skills of some of the midwives to thelimit\, but Trixie has to face her fe
	ars and Valerie deals witha shocking case that arrives unexpectedly.
DTSTART:20190113T150000Z
DTEND:20190113T160000Z
END:VEVENT
END:VCALENDAR
