BEGIN:VCALENDAR
VERSION:2.0
PRODID:-//InvisionCommunity Events 4.7.23//EN
METHOD:PUBLISH
CALSCALE:GREGORIAN
REFRESH-INTERVAL:PT15M
X-PUBLISHED-TTL:PT15M
X-WR-CALNAME:Pogdesign
NAME:Pogdesign
BEGIN:VTIMEZONE
TZID:Europe/London
TZURL:http://tzurl.org/zoneinfo/Europe/London
X-LIC-LOCATION:Europe/London
BEGIN:DAYLIGHT
TZOFFSETFROM:+0000
TZOFFSETTO:+0100
TZNAME:BST
DTSTART:20190331T020000Z
RRULE:FREQ=YEARLY;BYMONTH=3;BYDAY=-1SU
END:DAYLIGHT
BEGIN:STANDARD
TZOFFSETFROM:+0100
TZOFFSETTO:+0000
TZNAME:GMT
DTSTART:20191027T020000Z
RRULE:FREQ=YEARLY;BYMONTH=10;BYDAY=-1SU
END:STANDARD
END:VTIMEZONE
BEGIN:VEVENT
SUMMARY:Shark Tank 10x11 - Season 10\, Episode 11
DTSTAMP:20190107T085958Z
SEQUENCE:0
UID:97820-3-841ebed20eb198c4569419e99b7bf40a@themidnightzone.com
ORGANIZER;CN="Midnight":midnight@themidnightzone.com
DESCRIPTION:First into the Tank is an entrepreneur from Willis\, Texas\,
	who introduces her lay-flat cosmetic bag design that allows foreasy access
	 to materials. Entrepreneurs from San Diego\,California\, pitch their onli
	ne boutique subscription shaveclub exclusively intended for women\; while 
	entrepreneurs fromBasalt\, Colorado\, and Newport Coast\, California\, pre
	senttheir functional cat furniture designs which are durable andeasy to cl
	ean. Last into the Tank is a mom from Palo Alto\,California\, who provides
	 comfortable and stylish play dressesfor mothers with young children.
DTSTART:20190120T210000Z
DTEND:20190120T220000Z
END:VEVENT
END:VCALENDAR
