BEGIN:VCALENDAR
VERSION:2.0
PRODID:-//InvisionCommunity Events 4.7.23//EN
METHOD:PUBLISH
CALSCALE:GREGORIAN
REFRESH-INTERVAL:PT15M
X-PUBLISHED-TTL:PT15M
X-WR-CALNAME:Pogdesign
NAME:Pogdesign
BEGIN:VTIMEZONE
TZID:Europe/London
TZURL:http://tzurl.org/zoneinfo/Europe/London
X-LIC-LOCATION:Europe/London
BEGIN:DAYLIGHT
TZOFFSETFROM:+0000
TZOFFSETTO:+0100
TZNAME:BST
DTSTART:20190331T020000Z
RRULE:FREQ=YEARLY;BYMONTH=3;BYDAY=-1SU
END:DAYLIGHT
BEGIN:STANDARD
TZOFFSETFROM:+0100
TZOFFSETTO:+0000
TZNAME:GMT
DTSTART:20191027T020000Z
RRULE:FREQ=YEARLY;BYMONTH=10;BYDAY=-1SU
END:STANDARD
END:VTIMEZONE
BEGIN:VEVENT
SUMMARY:The Gifted 2x13 - teMpted
DTSTAMP:20190109T085951Z
SEQUENCE:0
UID:97921-3-841ebed20eb198c4569419e99b7bf40a@themidnightzone.com
ORGANIZER;CN="Midnight":midnight@themidnightzone.com
DESCRIPTION:Lauren stops sleeping so she can avoid the forces in her dre
	amspushing her towards joining Andy and giving in to her darkside. Glow is
	 in trouble after being shot by the Purifiers\,and Blink convinces the Mor
	locks to let Caitlin save Glow.Meanwhile\, Polaris learns the details of w
	hat Reeva isplanning\, and Reed helps Lauren fight off her dreams.
DTSTART:20190122T200000Z
DTEND:20190122T210000Z
END:VEVENT
END:VCALENDAR
