BEGIN:VCALENDAR
VERSION:2.0
PRODID:-//InvisionCommunity Events 4.7.23//EN
METHOD:PUBLISH
CALSCALE:GREGORIAN
REFRESH-INTERVAL:PT15M
X-PUBLISHED-TTL:PT15M
X-WR-CALNAME:At My TV
NAME:At My TV
BEGIN:VTIMEZONE
TZID:Europe/London
TZURL:http://tzurl.org/zoneinfo/Europe/London
X-LIC-LOCATION:Europe/London
BEGIN:DAYLIGHT
TZOFFSETFROM:+0000
TZOFFSETTO:+0100
TZNAME:BST
DTSTART:20190331T020000Z
RRULE:FREQ=YEARLY;BYMONTH=3;BYDAY=-1SU
END:DAYLIGHT
BEGIN:STANDARD
TZOFFSETFROM:+0100
TZOFFSETTO:+0000
TZNAME:GMT
DTSTART:20191027T020000Z
RRULE:FREQ=YEARLY;BYMONTH=10;BYDAY=-1SU
END:STANDARD
END:VTIMEZONE
BEGIN:VEVENT
SUMMARY:Grantchester 4x4 - Episode 4
DTSTAMP:20190118T050050Z
SEQUENCE:0
UID:98345-2-841ebed20eb198c4569419e99b7bf40a@themidnightzone.com
ORGANIZER;CN="Midnight":midnight@themidnightzone.com
DESCRIPTION:Will is preparing to be installed as the new vicar ofGrantch
	ester and Mrs C is anxious about his relaxed attitude.But that's just Will
	's nature – as he tells the Archdeacon\,he's never been more sure of any
	thing. The clock is ticking forWill to uncover the truth and help the fami
	ly heal\, but hisown troubled past threatens to colour his view of the cas
	e –and Geordie realises his new friend has demons of his own.
DTSTART:20190201T210000Z
DTEND:20190201T220000Z
END:VEVENT
END:VCALENDAR
