BEGIN:VCALENDAR
VERSION:2.0
PRODID:-//InvisionCommunity Events 4.7.23//EN
METHOD:PUBLISH
CALSCALE:GREGORIAN
REFRESH-INTERVAL:PT15M
X-PUBLISHED-TTL:PT15M
X-WR-CALNAME:Pogdesign
NAME:Pogdesign
BEGIN:VTIMEZONE
TZID:Europe/London
TZURL:http://tzurl.org/zoneinfo/Europe/London
X-LIC-LOCATION:Europe/London
BEGIN:DAYLIGHT
TZOFFSETFROM:+0000
TZOFFSETTO:+0100
TZNAME:BST
DTSTART:20190331T020000Z
RRULE:FREQ=YEARLY;BYMONTH=3;BYDAY=-1SU
END:DAYLIGHT
BEGIN:STANDARD
TZOFFSETFROM:+0100
TZOFFSETTO:+0000
TZNAME:GMT
DTSTART:20191027T020000Z
RRULE:FREQ=YEARLY;BYMONTH=10;BYDAY=-1SU
END:STANDARD
END:VTIMEZONE
BEGIN:VEVENT
SUMMARY:Roswell\, New Mexico 1x4 - Where Have All The Cowboys Gone
DTSTAMP:20190123T085902Z
SEQUENCE:0
UID:98591-3-841ebed20eb198c4569419e99b7bf40a@themidnightzone.com
ORGANIZER;CN="Midnight":midnight@themidnightzone.com
DESCRIPTION:Fearing that his identity will be uncovered\, Max is conflic
	tedwhen a town-wide power outage leaves patients at the hospitalin need of
	 help. Meanwhile\, Liz turns to Kyle after learningdetails about the night
	 Rosa died. Elsewhere\, Isobel andMichael come up with a plan to deal with
	 Liz\, and MasterSargent Manes seeks help from an unlikely source.
DTSTART:20190205T210000Z
DTEND:20190205T220000Z
END:VEVENT
END:VCALENDAR
