BEGIN:VCALENDAR
VERSION:2.0
PRODID:-//InvisionCommunity Events 4.7.23//EN
METHOD:PUBLISH
CALSCALE:GREGORIAN
REFRESH-INTERVAL:PT15M
X-PUBLISHED-TTL:PT15M
X-WR-CALNAME:Pogdesign
NAME:Pogdesign
BEGIN:VTIMEZONE
TZID:Europe/London
TZURL:http://tzurl.org/zoneinfo/Europe/London
X-LIC-LOCATION:Europe/London
BEGIN:DAYLIGHT
TZOFFSETFROM:+0000
TZOFFSETTO:+0100
TZNAME:BST
DTSTART:20190331T020000Z
RRULE:FREQ=YEARLY;BYMONTH=3;BYDAY=-1SU
END:DAYLIGHT
BEGIN:STANDARD
TZOFFSETFROM:+0100
TZOFFSETTO:+0000
TZNAME:GMT
DTSTART:20191027T020000Z
RRULE:FREQ=YEARLY;BYMONTH=10;BYDAY=-1SU
END:STANDARD
END:VTIMEZONE
BEGIN:VEVENT
SUMMARY:The Graham Norton Show 24x15 - Judi Dench\, Kenneth Branagh\
	,Anthony Joshua\, Noomi Rapace\, Greg Davies\, Claire Richards
DTSTAMP:20190124T005859Z
SEQUENCE:0
UID:98614-3-841ebed20eb198c4569419e99b7bf40a@themidnightzone.com
ORGANIZER;CN="Midnight":midnight@themidnightzone.com
DESCRIPTION:Graham is joined by by Dame Judi Dench and Sir KennethBranag
	h\, who star as Anne Hathaway and William Shakespeare inAll Is True\, worl
	d heavyweight boxing champion AnthonyJoshua\, Swedish star Noomi Rapace\, 
	who stars in new actionthriller Close and Greg Davies\, who talks about th
	e new seriesof Cuckoo. With music from Claire Richards\, who performs Thes
	eWings.
DTSTART:20190125T173500Z
DTEND:20190125T183500Z
END:VEVENT
END:VCALENDAR
